BEGIN:VCALENDAR
VERSION:2.0
PRODID:-//Sunny Atlantic Beach Club - ECPv6.13.0//NONSGML v1.0//EN
CALSCALE:GREGORIAN
METHOD:PUBLISH
X-WR-CALNAME:Sunny Atlantic Beach Club
X-ORIGINAL-URL:https://sunnyatlantic.com
X-WR-CALDESC:Events for Sunny Atlantic Beach Club
REFRESH-INTERVAL;VALUE=DURATION:PT1H
X-Robots-Tag:noindex
X-PUBLISHED-TTL:PT1H
BEGIN:VTIMEZONE
TZID:America/New_York
BEGIN:DAYLIGHT
TZOFFSETFROM:-0500
TZOFFSETTO:-0400
TZNAME:EDT
DTSTART:20220313T070000
END:DAYLIGHT
BEGIN:STANDARD
TZOFFSETFROM:-0400
TZOFFSETTO:-0500
TZNAME:EST
DTSTART:20221106T060000
END:STANDARD
BEGIN:DAYLIGHT
TZOFFSETFROM:-0500
TZOFFSETTO:-0400
TZNAME:EDT
DTSTART:20230312T070000
END:DAYLIGHT
BEGIN:STANDARD
TZOFFSETFROM:-0400
TZOFFSETTO:-0500
TZNAME:EST
DTSTART:20231105T060000
END:STANDARD
BEGIN:DAYLIGHT
TZOFFSETFROM:-0500
TZOFFSETTO:-0400
TZNAME:EDT
DTSTART:20240310T070000
END:DAYLIGHT
BEGIN:STANDARD
TZOFFSETFROM:-0400
TZOFFSETTO:-0500
TZNAME:EST
DTSTART:20241103T060000
END:STANDARD
END:VTIMEZONE
BEGIN:VEVENT
DTSTART;TZID=America/New_York:20240703T183000
DTEND;TZID=America/New_York:20240703T213000
DTSTAMP:20260423T050252
CREATED:20230524T170728Z
LAST-MODIFIED:20240514T172543Z
UID:6441-1720031400-1720042200@sunnyatlantic.com
SUMMARY:Wednesday Night Live with Half Step
DESCRIPTION:Wednesday Night Live with Half Step
URL:https://sunnyatlantic.com/event/monday-night-live-with-half-step/
CATEGORIES:Club Event,Musical
ATTACH;FMTTYPE=image/jpeg:https://sunnyatlantic.com/wp-content/uploads/2023/05/maxresdefault-e1715707501817.jpg
END:VEVENT
BEGIN:VEVENT
DTSTART;TZID=America/New_York:20240616T170000
DTEND;TZID=America/New_York:20240616T200000
DTSTAMP:20260423T050252
CREATED:20230524T152252Z
LAST-MODIFIED:20240514T170312Z
UID:6422-1718557200-1718568000@sunnyatlantic.com
SUMMARY:Father's Day Band & BBQ with Big Night Out
DESCRIPTION:Father’s Day Band & BBQ with Big Night Out \n$10 for non-members at the door\, includes parking \nBBQ Menu and Full Bar Available \n 
URL:https://sunnyatlantic.com/event/fathers-day-band-bbq-with-yacht-lobsters/
CATEGORIES:Club Event,Holidays,Musical
ATTACH;FMTTYPE=image/jpeg:https://sunnyatlantic.com/wp-content/uploads/2023/05/Fathers_Day_2023-1_50-e1715706142807.jpeg
END:VEVENT
BEGIN:VEVENT
DTSTART;TZID=America/New_York:20240615T193000
DTEND;TZID=America/New_York:20240615T220000
DTSTAMP:20260423T050252
CREATED:20240331T162502Z
LAST-MODIFIED:20240514T165755Z
UID:6753-1718479800-1718488800@sunnyatlantic.com
SUMMARY:Saturday Night Live\, Comedy Night
DESCRIPTION:
URL:https://sunnyatlantic.com/event/comedy-night/
CATEGORIES:Club Event,Musical
ATTACH;FMTTYPE=image/jpeg:https://sunnyatlantic.com/wp-content/uploads/2024/03/IMG_1220.jpeg
END:VEVENT
BEGIN:VEVENT
DTSTART;VALUE=DATE:20240526
DTEND;VALUE=DATE:20240527
DTSTAMP:20260423T050252
CREATED:20230524T134758Z
LAST-MODIFIED:20240514T154856Z
UID:6401-1716681600-1716767999@sunnyatlantic.com
SUMMARY:Memorial Day Weekend DJ & BBQ
DESCRIPTION:Memorial Day DJ & BBQ(weather permitting) \n 
URL:https://sunnyatlantic.com/event/memorial-day-weekend-band-bbq-2023/
CATEGORIES:Club Event,Holidays,Musical
ATTACH;FMTTYPE=image/jpeg:https://sunnyatlantic.com/wp-content/uploads/2023/05/ewscripps.brightspotcdn.jpg
END:VEVENT
BEGIN:VEVENT
DTSTART;TZID=America/New_York:20240525T183000
DTEND;TZID=America/New_York:20240525T223000
DTSTAMP:20260423T050252
CREATED:20230524T134357Z
LAST-MODIFIED:20240514T172616Z
UID:6394-1716661800-1716676200@sunnyatlantic.com
SUMMARY:Saturday Night Live with Half Step
DESCRIPTION:Saturday Night Live with Half Step
URL:https://sunnyatlantic.com/event/saturday-night-live-with-half-step/
CATEGORIES:Club Event,Musical
ATTACH;FMTTYPE=image/jpeg:https://sunnyatlantic.com/wp-content/uploads/2023/05/maxresdefault-e1715707501817.jpg
END:VEVENT
BEGIN:VEVENT
DTSTART;VALUE=DATE:20240902
DTEND;VALUE=DATE:20240903
DTSTAMP:20260423T050252
CREATED:20230524T180118Z
LAST-MODIFIED:20240514T184259Z
UID:6503-1725235200-1725235200@sunnyatlantic.com
SUMMARY:Labor Day\, Weekend/Holiday Guest Fees & Parking
DESCRIPTION:Labor Day\, Weekend/Holiday Guest Fees & Parking
URL:https://sunnyatlantic.com/event/labor-day-weekend-holiday-guest-fees-parking/
CATEGORIES:Club Event,Musical
ATTACH;FMTTYPE=image/jpeg:https://sunnyatlantic.com/wp-content/uploads/2022/04/flag.jpg
END:VEVENT
BEGIN:VEVENT
DTSTART;VALUE=DATE:20230903
DTEND;VALUE=DATE:20230904
DTSTAMP:20260423T050252
CREATED:20230524T175958Z
LAST-MODIFIED:20230821T162120Z
UID:6501-1693699200-1693785599@sunnyatlantic.com
SUMMARY:Half Step\, Labor Day Band & BBQ
DESCRIPTION:Labor Day Band & BBQ with Half Step
URL:https://sunnyatlantic.com/event/labor-day-band-bbq-with-half-step/
CATEGORIES:Club Event,Musical
ATTACH;FMTTYPE=image/webp:https://sunnyatlantic.com/wp-content/uploads/2022/03/VegHotDog-80489177w.webp
END:VEVENT
BEGIN:VEVENT
DTSTART;VALUE=DATE:20230831
DTEND;VALUE=DATE:20230901
DTSTAMP:20260423T050252
CREATED:20230821T161916Z
LAST-MODIFIED:20230821T161953Z
UID:6596-1693440000-1693526399@sunnyatlantic.com
SUMMARY:*Mystic*
DESCRIPTION:Thursday Night Live \nAll you can eat!\n$24.95 for food & a drink ticket\n$10 entry fee for music only
URL:https://sunnyatlantic.com/event/thursday-night-live/
CATEGORIES:Club Event,Holidays,Musical
ATTACH;FMTTYPE=image/jpeg:https://sunnyatlantic.com/wp-content/uploads/2022/03/Mystic.jpg
END:VEVENT
BEGIN:VEVENT
DTSTART;VALUE=DATE:20230826
DTEND;VALUE=DATE:20230827
DTSTAMP:20260423T050252
CREATED:20230524T174816Z
LAST-MODIFIED:20230524T174816Z
UID:6487-1693008000-1693094399@sunnyatlantic.com
SUMMARY:Worldwide Play Music Day
DESCRIPTION:Worldwide Play Music Day
URL:https://sunnyatlantic.com/event/worldwide-play-music-day/
CATEGORIES:Club Event,Musical
ATTACH;FMTTYPE=image/png:https://sunnyatlantic.com/wp-content/uploads/2023/05/music.png
END:VEVENT
BEGIN:VEVENT
DTSTART;VALUE=DATE:20230813
DTEND;VALUE=DATE:20230814
DTSTAMP:20260423T050252
CREATED:20230524T173643Z
LAST-MODIFIED:20230524T173643Z
UID:6478-1691884800-1691971199@sunnyatlantic.com
SUMMARY:Band & BBQ w/ Manny's Boogaloo Crew
DESCRIPTION:Band & BBQ \nwith Manny’s Boogaloo Crew \nA La Carte BBQ Menu\n$10 entry fee for non-members\nno fee for members
URL:https://sunnyatlantic.com/event/band-bbq-w-mannys-boogaloo-crew/
CATEGORIES:Club Event,Holidays,Musical
ATTACH;FMTTYPE=image/jpeg:https://sunnyatlantic.com/wp-content/uploads/2022/03/Manny.jpg
END:VEVENT
BEGIN:VEVENT
DTSTART;TZID=America/New_York:20230715T190000
DTEND;TZID=America/New_York:20230715T190000
DTSTAMP:20260423T050252
CREATED:20230613T164756Z
LAST-MODIFIED:20230613T164942Z
UID:6562-1689447600-1689447600@sunnyatlantic.com
SUMMARY:Legends in Concert
DESCRIPTION:
URL:https://sunnyatlantic.com/event/legends-in-concert/
CATEGORIES:Club Event,Musical
ATTACH;FMTTYPE=image/png:https://sunnyatlantic.com/wp-content/uploads/2023/06/Elvis-copy-1.png
END:VEVENT
BEGIN:VEVENT
DTSTART;TZID=America/New_York:20230701T183000
DTEND;TZID=America/New_York:20230701T213000
DTSTAMP:20260423T050252
CREATED:20230524T154025Z
LAST-MODIFIED:20230628T203432Z
UID:6435-1688236200-1688247000@sunnyatlantic.com
SUMMARY:Saturday Night Live with Fools Night Out
DESCRIPTION:Saturday Night Live with Fools Night Out \nAll you can eat!\n$24.95 for food & a drink ticket\n$10 entry fee for music only
URL:https://sunnyatlantic.com/event/saturday-night-live-with-fools-night-out/
CATEGORIES:Club Event,Musical
END:VEVENT
BEGIN:VEVENT
DTSTART;VALUE=DATE:20220904
DTEND;VALUE=DATE:20220905
DTSTAMP:20260423T050252
CREATED:20220419T145338Z
LAST-MODIFIED:20220602T172137Z
UID:5695-1662249600-1662335999@sunnyatlantic.com
SUMMARY:Labor Day Band & BBQ
DESCRIPTION:Labor Day Band & BBQ with Half Step \nA La Carte Menu\n$10 entry fee for non-members\nno fee for members
URL:https://sunnyatlantic.com/event/labor-day-band-bbq/
CATEGORIES:Club Event,Musical
ATTACH;FMTTYPE=image/jpeg:https://sunnyatlantic.com/wp-content/uploads/2022/04/half-step.jpg
END:VEVENT
BEGIN:VEVENT
DTSTART;VALUE=DATE:20220902
DTEND;VALUE=DATE:20220903
DTSTAMP:20260423T050252
CREATED:20220419T145101Z
LAST-MODIFIED:20220506T173805Z
UID:5691-1662076800-1662163199@sunnyatlantic.com
SUMMARY:Friday Night Live
DESCRIPTION:Friday Night Live with The Grooves \nAll you can eat!\n$24.95 for food & a drink ticket\n$10 entry fee for music only
URL:https://sunnyatlantic.com/event/friday-night-live-2/
CATEGORIES:Club Event,Musical
ATTACH;FMTTYPE=image/jpeg:https://sunnyatlantic.com/wp-content/uploads/2022/04/GroovesGen.jpg
END:VEVENT
BEGIN:VEVENT
DTSTART;TZID=America/New_York:20220716T190000
DTEND;TZID=America/New_York:20220716T210000
DTSTAMP:20260423T050252
CREATED:20220428T185943Z
LAST-MODIFIED:20220616T115836Z
UID:5740-1657998000-1658005200@sunnyatlantic.com
SUMMARY:ELVIS
DESCRIPTION:Starring Hall of Fame Impersonator Steve Mitchell. \nLearn more HERE
URL:https://sunnyatlantic.com/event/elvis/
CATEGORIES:Musical
ATTACH;FMTTYPE=image/jpeg:https://sunnyatlantic.com/wp-content/uploads/2022/04/ElvisP.jpg
END:VEVENT
BEGIN:VEVENT
DTSTART;VALUE=DATE:20220703
DTEND;VALUE=DATE:20220704
DTSTAMP:20260423T050252
CREATED:20220418T145605Z
LAST-MODIFIED:20220602T172106Z
UID:5651-1656806400-1656892799@sunnyatlantic.com
SUMMARY:Band & BBQ
DESCRIPTION:Band & BBQ with Bon Journey\nA La Carte Menu\n$10 entry fee for non-members\nno fee for members
URL:https://sunnyatlantic.com/event/band-bbq/
CATEGORIES:Club Event,Musical
ATTACH;FMTTYPE=image/jpeg:https://sunnyatlantic.com/wp-content/uploads/2022/03/BonJourney.jpg
END:VEVENT
BEGIN:VEVENT
DTSTART;VALUE=DATE:20220702
DTEND;VALUE=DATE:20220703
DTSTAMP:20260423T050252
CREATED:20220419T141531Z
LAST-MODIFIED:20220531T142709Z
UID:5672-1656720000-1656806399@sunnyatlantic.com
SUMMARY:Saturday Night Live
DESCRIPTION:with The Mystic \nAll you can eat!\n$24.95 for food & a drink ticket\n$10 entry fee for music only
URL:https://sunnyatlantic.com/event/fathers-day-band-and-bbq/
CATEGORIES:Club Event,Holidays,Musical
ATTACH;FMTTYPE=image/jpeg:https://sunnyatlantic.com/wp-content/uploads/2022/03/Mystic.jpg
END:VEVENT
BEGIN:VEVENT
DTSTART;VALUE=DATE:20220701
DTEND;VALUE=DATE:20220702
DTSTAMP:20260423T050252
CREATED:20220418T145324Z
LAST-MODIFIED:20220506T173710Z
UID:5647-1656633600-1656719999@sunnyatlantic.com
SUMMARY:Friday Night Live
DESCRIPTION:Friday Night Live with The Grooves \nAll you can eat!\n$24.95 for food & a drink ticket\n$10 entry fee for music only
URL:https://sunnyatlantic.com/event/friday-night-live/
CATEGORIES:Club Event,Musical
ATTACH;FMTTYPE=image/jpeg:https://sunnyatlantic.com/wp-content/uploads/2022/04/GroovesGen.jpg
END:VEVENT
BEGIN:VEVENT
DTSTART;VALUE=DATE:20220619
DTEND;VALUE=DATE:20220620
DTSTAMP:20260423T050252
CREATED:20220602T171956Z
LAST-MODIFIED:20220602T172016Z
UID:5989-1655596800-1655683199@sunnyatlantic.com
SUMMARY:Memorial Day Weekend Band & BBQ
DESCRIPTION:Father’s Day Band & BBQ \nwith Manny’s Boogaloo Crew \nA La Carte BBQ Menu\n$10 entry fee for non-members\nno fee for members
URL:https://sunnyatlantic.com/event/memorial-day-weekend-band-bbq-2/
CATEGORIES:Club Event,Holidays,Musical
ATTACH;FMTTYPE=image/jpeg:https://sunnyatlantic.com/wp-content/uploads/2022/03/Manny.jpg
END:VEVENT
BEGIN:VEVENT
DTSTART;VALUE=DATE:20220529
DTEND;VALUE=DATE:20220530
DTSTAMP:20260423T050252
CREATED:20220419T143830Z
LAST-MODIFIED:20220506T172342Z
UID:5687-1653782400-1653868799@sunnyatlantic.com
SUMMARY:Memorial Day Weekend Band & BBQ
DESCRIPTION:Memorial Day Weekend Band & BBQ \nwith Manny’s Boogaloo Crew \nA La Carte Menu\n$10 entry fee for non-members\nno fee for members
URL:https://sunnyatlantic.com/event/memorial-day-weekend-band-bbq/
CATEGORIES:Club Event,Holidays,Musical
ATTACH;FMTTYPE=image/jpeg:https://sunnyatlantic.com/wp-content/uploads/2022/03/Manny.jpg
END:VEVENT
BEGIN:VEVENT
DTSTART;TZID=America/New_York:20220528T183000
DTEND;TZID=America/New_York:20220528T223000
DTSTAMP:20260423T050252
CREATED:20220414T181926Z
LAST-MODIFIED:20220506T172841Z
UID:5549-1653762600-1653777000@sunnyatlantic.com
SUMMARY:Saturday Night Live
DESCRIPTION:Saturday Night Live with Mean Machine \n \nAll you can eat!\n$24.95 for food & a drink ticket\n$10 entry fee for music only
URL:https://sunnyatlantic.com/event/saturday-night-live/
CATEGORIES:Club Event,Musical
ATTACH;FMTTYPE=image/jpeg:https://sunnyatlantic.com/wp-content/uploads/2022/03/meanmachine.jpg
END:VEVENT
END:VCALENDAR